BEGIN:VCALENDAR
VERSION:2.0
PRODID:-//Kamloops Food Policy Council - ECPv6.15.20//NONSGML v1.0//EN
CALSCALE:GREGORIAN
METHOD:PUBLISH
X-WR-CALNAME:Kamloops Food Policy Council
X-ORIGINAL-URL:https://kamloopsfoodpolicycouncil.com
X-WR-CALDESC:Events for Kamloops Food Policy Council
REFRESH-INTERVAL;VALUE=DURATION:PT1H
X-Robots-Tag:noindex
X-PUBLISHED-TTL:PT1H
BEGIN:VTIMEZONE
TZID:America/Los_Angeles
BEGIN:DAYLIGHT
TZOFFSETFROM:-0800
TZOFFSETTO:-0700
TZNAME:PDT
DTSTART:20160313T100000
END:DAYLIGHT
BEGIN:STANDARD
TZOFFSETFROM:-0700
TZOFFSETTO:-0800
TZNAME:PST
DTSTART:20161106T090000
END:STANDARD
BEGIN:DAYLIGHT
TZOFFSETFROM:-0800
TZOFFSETTO:-0700
TZNAME:PDT
DTSTART:20170312T100000
END:DAYLIGHT
BEGIN:STANDARD
TZOFFSETFROM:-0700
TZOFFSETTO:-0800
TZNAME:PST
DTSTART:20171105T090000
END:STANDARD
BEGIN:DAYLIGHT
TZOFFSETFROM:-0800
TZOFFSETTO:-0700
TZNAME:PDT
DTSTART:20180311T100000
END:DAYLIGHT
BEGIN:STANDARD
TZOFFSETFROM:-0700
TZOFFSETTO:-0800
TZNAME:PST
DTSTART:20181104T090000
END:STANDARD
BEGIN:DAYLIGHT
TZOFFSETFROM:-0800
TZOFFSETTO:-0700
TZNAME:PDT
DTSTART:20190310T100000
END:DAYLIGHT
BEGIN:STANDARD
TZOFFSETFROM:-0700
TZOFFSETTO:-0800
TZNAME:PST
DTSTART:20191103T090000
END:STANDARD
BEGIN:DAYLIGHT
TZOFFSETFROM:-0800
TZOFFSETTO:-0700
TZNAME:PDT
DTSTART:20200308T100000
END:DAYLIGHT
BEGIN:STANDARD
TZOFFSETFROM:-0700
TZOFFSETTO:-0800
TZNAME:PST
DTSTART:20201101T090000
END:STANDARD
BEGIN:DAYLIGHT
TZOFFSETFROM:-0800
TZOFFSETTO:-0700
TZNAME:PDT
DTSTART:20210314T100000
END:DAYLIGHT
BEGIN:STANDARD
TZOFFSETFROM:-0700
TZOFFSETTO:-0800
TZNAME:PST
DTSTART:20211107T090000
END:STANDARD
BEGIN:DAYLIGHT
TZOFFSETFROM:-0800
TZOFFSETTO:-0700
TZNAME:PDT
DTSTART:20220313T100000
END:DAYLIGHT
BEGIN:STANDARD
TZOFFSETFROM:-0700
TZOFFSETTO:-0800
TZNAME:PST
DTSTART:20221106T090000
END:STANDARD
BEGIN:DAYLIGHT
TZOFFSETFROM:-0800
TZOFFSETTO:-0700
TZNAME:PDT
DTSTART:20230312T100000
END:DAYLIGHT
BEGIN:STANDARD
TZOFFSETFROM:-0700
TZOFFSETTO:-0800
TZNAME:PST
DTSTART:20231105T090000
END:STANDARD
BEGIN:DAYLIGHT
TZOFFSETFROM:-0800
TZOFFSETTO:-0700
TZNAME:PDT
DTSTART:20240310T100000
END:DAYLIGHT
BEGIN:STANDARD
TZOFFSETFROM:-0700
TZOFFSETTO:-0800
TZNAME:PST
DTSTART:20241103T090000
END:STANDARD
END:VTIMEZONE
BEGIN:VTIMEZONE
TZID:UTC
BEGIN:STANDARD
TZOFFSETFROM:+0000
TZOFFSETTO:+0000
TZNAME:UTC
DTSTART:20160101T000000
END:STANDARD
END:VTIMEZONE
BEGIN:VEVENT
DTSTART;TZID=America/Los_Angeles:20231014T170000
DTEND;TZID=America/Los_Angeles:20231014T200000
DTSTAMP:20260421T234022
CREATED:20230920T193139Z
LAST-MODIFIED:20230920T193139Z
UID:18557-1697302800-1697313600@kamloopsfoodpolicycouncil.com
SUMMARY:Charcuterie Cooking & Art Workshop
DESCRIPTION:Join Stir Maker Kuzina Messer Culinaire\, and Kamloops Art Party\, for a night of cooking charcuterie and decorating your own charcuterie boards! \n  \nThe workshop will start at The Stir from 5-7 p.m. with a hands on cooking class hosted by Kuzina Messer Culinaire. Afterwards\, participants will head to Kamloops Art Party from 7-8 p.m. to decorate their own charcuterie boards with wood burning tools and resin! \nLimited space available; please purchase tickets in advance here.
URL:https://kamloopsfoodpolicycouncil.com/event/charcuterie-cooking-art-workshop/
LOCATION:The Stir\, 185 Royal Ave\, Kamloops\, BC\, V2B 8J6\, Canada
END:VEVENT
BEGIN:VEVENT
DTSTART;TZID=America/Los_Angeles:20231013T170000
DTEND;TZID=America/Los_Angeles:20231013T233000
DTSTAMP:20260421T234022
CREATED:20230830T174625Z
LAST-MODIFIED:20230929T185554Z
UID:18446-1697216400-1697239800@kamloopsfoodpolicycouncil.com
SUMMARY:2310 Entertainment's Caribbean BBQ Night - To Be Confirmed
DESCRIPTION:Join 2310 Entertainment on Friday October 13th (to be confirmed – check back here for udpates) for a Caribbean BBQ\, music\, and dancing. The event runs from 5 p.m. until late in The Stir’s Riverfront Courtyard (out back\, 185 Royal Ave). \n  \nVisit our event calendar to see what else is stirring!
URL:https://kamloopsfoodpolicycouncil.com/event/2310-entertainments-caribbean-bbq-night/
LOCATION:The Stir\, 185 Royal Ave\, Kamloops\, BC\, V2B 8J6\, Canada
END:VEVENT
BEGIN:VEVENT
DTSTART;TZID=America/Los_Angeles:20231004T173000
DTEND;TZID=America/Los_Angeles:20231004T193000
DTSTAMP:20260421T234022
CREATED:20230920T192259Z
LAST-MODIFIED:20230920T192259Z
UID:18554-1696440600-1696447800@kamloopsfoodpolicycouncil.com
SUMMARY:October KFPC Network Meeting
DESCRIPTION:Join us on the first Wednesday of every month from 5:30-7:30 p.m. for our Network Meeting and Potluck in The Stirfront\, 185 Royal Ave – everyone welcome! \nOctober’s meeting centres around a presentation on the Ark of Taste from our Food Hub Manager\, Kent Fawcett.
URL:https://kamloopsfoodpolicycouncil.com/event/october-kfpc-network-meeting/
LOCATION:The Stir\, 185 Royal Ave\, Kamloops\, BC\, V2B 8J6\, Canada
ORGANIZER;CN="KFPC":MAILTO:info@kamloopsfoodpolicycouncil.com
END:VEVENT
BEGIN:VEVENT
DTSTART;TZID=America/Los_Angeles:20230915T100000
DTEND;TZID=America/Los_Angeles:20230915T160000
DTSTAMP:20260421T234022
CREATED:20230830T174609Z
LAST-MODIFIED:20230830T174609Z
UID:18447-1694772000-1694793600@kamloopsfoodpolicycouncil.com
SUMMARY:Seed Cleaning Day at the BUF
DESCRIPTION:Join us at the Butler Urban Farm (127 Clapperton Rd\, Kamloops) on September 15th between 10 a.m. and 4 p.m. for a day of seed cleaning! The Interior Mobile Seed Cleaning Trailer will be at the farm to help you clean your dried seeds\, and share their knowledge around seed cleaning equipment and seed saving! \nWe hope to see you there!
URL:https://kamloopsfoodpolicycouncil.com/event/seed-cleaning-day-at-the-buf/
LOCATION:BUF\, 127 Clapperton Dr\, Kamloops\, British Columbia\, Canada
ORGANIZER;CN="KFPC":MAILTO:info@kamloopsfoodpolicycouncil.com
END:VEVENT
BEGIN:VEVENT
DTSTART;TZID=America/Los_Angeles:20230906T173000
DTEND;TZID=America/Los_Angeles:20230906T193000
DTSTAMP:20260421T234022
CREATED:20230830T174536Z
LAST-MODIFIED:20230830T174536Z
UID:18448-1694021400-1694028600@kamloopsfoodpolicycouncil.com
SUMMARY:Sept Network Meeting
DESCRIPTION:Join us on the first Wednesday of every month from 5:30-7:30 p.m. for our Network Meeting and Potluck in The Stirfront\, 185 Royal Ave – everyone welcome! \nSeptember’s meeting centres around a presentation on Non-Capitalist Collective Urban Productive Spaces from our Butler Urban Farm Manager\, Kevin Pankewich.
URL:https://kamloopsfoodpolicycouncil.com/event/sept-network-meeting/
LOCATION:The Stir\, 185 Royal Ave\, Kamloops\, BC\, V2B 8J6\, Canada
ORGANIZER;CN="KFPC":MAILTO:info@kamloopsfoodpolicycouncil.com
END:VEVENT
BEGIN:VEVENT
DTSTART;TZID=America/Los_Angeles:20230817T170000
DTEND;TZID=America/Los_Angeles:20230817T200000
DTSTAMP:20260421T234022
CREATED:20230704T234210Z
LAST-MODIFIED:20230717T165459Z
UID:18280-1692291600-1692302400@kamloopsfoodpolicycouncil.com
SUMMARY:The Stir's Parklet Pop-Up
DESCRIPTION:Looking for a fun Kamloops Event? Join us for our Parklet Pop-Up on August 17th from 5-8 p.m. at The Stir\, 185 Royal Ave! Entry is free\, food and drink tickets are $7. Tickets can be redeemed at Good for You Crepes’s stall\, Nourishing Gourmet’s Food Truck\, or for a glass of beer from Bright Eye Brewing! Stay awhile and listen to local musicians\, Darlene Fair from 5:30-6:30\, and Ruby Bruce from 6:45-7:45\, play one of our lawn or board games\, and enjoy our Riverfront Courtyard. \n  \nFor more Kamloops events\, see our event calendar or follow us on Instagram and FaceBook.
URL:https://kamloopsfoodpolicycouncil.com/event/18280/
LOCATION:The Stir\, 185 Royal Ave\, Kamloops\, BC\, V2B 8J6\, Canada
ORGANIZER;CN="KFPC":MAILTO:info@kamloopsfoodpolicycouncil.com
END:VEVENT
BEGIN:VEVENT
DTSTART;TZID=America/Los_Angeles:20230814T080000
DTEND;TZID=America/Los_Angeles:20230814T170000
DTSTAMP:20260421T234022
CREATED:20230814T213706Z
LAST-MODIFIED:20230814T213706Z
UID:18396-1692000000-1692032400@kamloopsfoodpolicycouncil.com
SUMMARY:Oct Network Meeting
DESCRIPTION:Join us on the first Wednesday of every month from 5:30-7:30 p.m. for our Network Meeting and Potluck in The Stirfront\, 185 Royal Ave – everyone welcome! \nOctober’s meeting centres around the Ark of Taste\, hosted by our Food Hub Manager\, Kent Fawcett.
URL:https://kamloopsfoodpolicycouncil.com/event/oct-network-meeting/
LOCATION:BC
END:VEVENT
BEGIN:VEVENT
DTSTART;TZID=America/Los_Angeles:20230805T170000
DTEND;TZID=America/Los_Angeles:20230805T233000
DTSTAMP:20260421T234022
CREATED:20230714T203505Z
LAST-MODIFIED:20230714T203514Z
UID:18347-1691254800-1691278200@kamloopsfoodpolicycouncil.com
SUMMARY:Al Fresco Affair
DESCRIPTION:AL FRESCO AFFAIR – Join LaSdAzeOfSummer for an incredible Open Air Summer Vibe Party\, where we’re bringing together the city’s most sought-after DJs to create an unforgettable atmosphere. Indulge in mouthwatering cuisine\, groove to infectious beats\, sip on refreshing drinks\, partake in exciting games\, and connect with like-minded individuals for a memorable networking experience. This is the event of the season that you don’t want to miss! \n  \nPurchase your tickets here.
URL:https://kamloopsfoodpolicycouncil.com/event/al-fresco-affair/
LOCATION:BC
END:VEVENT
BEGIN:VEVENT
DTSTART;TZID=America/Los_Angeles:20230804T170000
DTEND;TZID=America/Los_Angeles:20230804T233000
DTSTAMP:20260421T234022
CREATED:20230714T202931Z
LAST-MODIFIED:20230714T202931Z
UID:18344-1691168400-1691191800@kamloopsfoodpolicycouncil.com
SUMMARY:2310 Entertainment's Caribbean BBQ Nights
DESCRIPTION:Join 2310 Join 2310 Entertainment at The Stir every other Friday for a Caribbean BBQ\, music\, and dancing! \n5 p.m. until late\, at The Stir’s Riverfront Courtyard (out back\, 185 Royal Ave). \n  \nVisit our event calendar to see when the next BBQ is!
URL:https://kamloopsfoodpolicycouncil.com/event/2310-entertainments-caribbean-bbq-nights-2/
LOCATION:The Stir\, 185 Royal Ave\, Kamloops\, BC\, V2B 8J6\, Canada
END:VEVENT
BEGIN:VEVENT
DTSTART;TZID=America/Los_Angeles:20230802T173000
DTEND;TZID=America/Los_Angeles:20230802T213000
DTSTAMP:20260421T234022
CREATED:20230619T211448Z
LAST-MODIFIED:20230725T224100Z
UID:18186-1690997400-1691011800@kamloopsfoodpolicycouncil.com
SUMMARY:KFPC AGM and Dance Party
DESCRIPTION:Join us for our Annual General Meeting at The Stir on August 2nd! \nFrom 5:30-6 p.m.\, a brief board meeting will be held to go over the annual budget\, adopt a new by-law\, and nominate and elect new board members! View the full meeting agenda here. \nAt 6 p.m. we invite folks to gather in our Riverfront Courtyard for a potluck\, drinks from Abandoned Rail Brewing\, and a dance party! Vinyl spun until 9:30 p.m. by Kamloops based DJ Mmnaps.
URL:https://kamloopsfoodpolicycouncil.com/event/kfpc-agm-and-dance-party/
LOCATION:The Stir\, 185 Royal Ave\, Kamloops\, BC\, V2B 8J6\, Canada
ORGANIZER;CN="KFPC":MAILTO:info@kamloopsfoodpolicycouncil.com
END:VEVENT
BEGIN:VEVENT
DTSTART;TZID=America/Los_Angeles:20230721T170000
DTEND;TZID=America/Los_Angeles:20230721T233000
DTSTAMP:20260421T234022
CREATED:20230707T200153Z
LAST-MODIFIED:20230707T200628Z
UID:18300-1689958800-1689982200@kamloopsfoodpolicycouncil.com
SUMMARY:2310 Entertainment's Caribbean BBQ Nights
DESCRIPTION:Join 2310 Join 2310 Entertainment at The Stir every other Friday for a Caribbean BBQ\, music\, and dancing! \n5 p.m. until late\, at The Stir’s Riverfront Courtyard (out back\, 185 Royal Ave). \n  \nVisit our event calendar to see when the next BBQ is!
URL:https://kamloopsfoodpolicycouncil.com/event/2310-entertainments-caribbean-bbq-nights/
LOCATION:The Stir\, 185 Royal Ave\, Kamloops\, BC\, V2B 8J6\, Canada
END:VEVENT
BEGIN:VEVENT
DTSTART;TZID=America/Los_Angeles:20230707T170000
DTEND;TZID=America/Los_Angeles:20230707T233000
DTSTAMP:20260421T234022
CREATED:20230705T181809Z
LAST-MODIFIED:20230705T181845Z
UID:18291-1688749200-1688772600@kamloopsfoodpolicycouncil.com
SUMMARY:2310 Entertainment's Caribbean Nights
DESCRIPTION:Join 2310 Join 2310 Entertainment at The Stir every other Friday for a Caribbean BBQ\, music\, and fun! \n5 p.m. until late\, at The Stir’s Riverfront Courtyard (out back\, 185 Royal Ave). \n  \nVisit our event calendar to see when the next BBQ is!
URL:https://kamloopsfoodpolicycouncil.com/event/2310-entertainments-caribbean-nights/
LOCATION:BC
END:VEVENT
BEGIN:VEVENT
DTSTART;TZID=America/Los_Angeles:20230705T173000
DTEND;TZID=America/Los_Angeles:20230705T193000
DTSTAMP:20260421T234022
CREATED:20230619T204643Z
LAST-MODIFIED:20240826T180707Z
UID:18183-1688578200-1688585400@kamloopsfoodpolicycouncil.com
SUMMARY:KFPC July Network Meeting
DESCRIPTION:Join us on the first Wednesday of every month from 5:30-7:30 p.m. for our Network Meeting and Potluck in The Stirfront\, 185 Royal Ave. \nJuly’s meeting centres around an Anti-Racism Workshop\, hosted by our Organizational Leadership Coordinator\, Fauve Smith\, and Valid Dream’s Foundation’s Sally Martin!
URL:https://kamloopsfoodpolicycouncil.com/event/kfpc-july-network-meeting/
LOCATION:The Stir\, 185 Royal Ave\, Kamloops\, BC\, V2B 8J6\, Canada
ORGANIZER;CN="KFPC":MAILTO:info@kamloopsfoodpolicycouncil.com
END:VEVENT
BEGIN:VEVENT
DTSTART;TZID=America/Los_Angeles:20230628T160000
DTEND;TZID=America/Los_Angeles:20230628T180000
DTSTAMP:20260421T234022
CREATED:20230529T224933Z
LAST-MODIFIED:20230529T224933Z
UID:18129-1687968000-1687975200@kamloopsfoodpolicycouncil.com
SUMMARY:The Stir Drop-In Hours: Art Night
DESCRIPTION:Bring a craft or use our drawing materials and make some art based on the provided food-prompts.
URL:https://kamloopsfoodpolicycouncil.com/event/the-stir-drop-in-hours-art-night/
LOCATION:The Stir\, 185 Royal Ave\, Kamloops\, BC\, V2B 8J6\, Canada
END:VEVENT
BEGIN:VEVENT
DTSTART;TZID=America/Los_Angeles:20230621T160000
DTEND;TZID=America/Los_Angeles:20230621T180000
DTSTAMP:20260421T234022
CREATED:20230529T224846Z
LAST-MODIFIED:20230529T224846Z
UID:18126-1687363200-1687370400@kamloopsfoodpolicycouncil.com
SUMMARY:The Stir Drop-In Hours: Climate Grief Circle
DESCRIPTION:Are you worried about our environment; feel like you have no one who understands the grief you feel about our current environmental crisis? Come share with a group of compassionate\, like minded folks.
URL:https://kamloopsfoodpolicycouncil.com/event/the-stir-drop-in-hours-climate-grief-circle/
LOCATION:The Stir\, 185 Royal Ave\, Kamloops\, BC\, V2B 8J6\, Canada
END:VEVENT
BEGIN:VEVENT
DTSTART;TZID=America/Los_Angeles:20230614T160000
DTEND;TZID=America/Los_Angeles:20230614T180000
DTSTAMP:20260421T234022
CREATED:20230529T224553Z
LAST-MODIFIED:20230529T224553Z
UID:18122-1686758400-1686765600@kamloopsfoodpolicycouncil.com
SUMMARY:The Stir Drop-In Hours: Kitchen Open House
DESCRIPTION:Interested in using our facilities\, or want to learn more about the services we offer to help you grow your food business – this is the night for you!
URL:https://kamloopsfoodpolicycouncil.com/event/the-stir-drop-in-hours-kitchen-open-house/
LOCATION:The Stir\, 185 Royal Ave\, Kamloops\, BC\, V2B 8J6\, Canada
END:VEVENT
BEGIN:VEVENT
DTSTART;TZID=America/Los_Angeles:20230610T180000
DTEND;TZID=America/Los_Angeles:20230610T210000
DTSTAMP:20260421T234022
CREATED:20230529T224444Z
LAST-MODIFIED:20230529T224753Z
UID:18119-1686420000-1686430800@kamloopsfoodpolicycouncil.com
SUMMARY:Butler Urban Farm Toppings Contest & Fundraiser
DESCRIPTION:The Butler Urban Farm is hosting a hot dog toppings contest and fundraising event on Saturday\, June 10th from 6-9 p.m. at The Stir’s River Front Courtyard (in the back lot of 185 Royal Avenue on the North Shore – not the farm). \nCook up your favourite hot dog toppings (Relish\, and mustard\, and chutney\, oh my!) and let popular vote determine who’s topping is best. Enjoy barbecued hot dogs and sample toppings from 6-8 p.m. While you eat\, enjoy outdoor games\, music\, beverages\, and great company. Don’t forget to stick around until the toppings winner is announced\, and awarded their prize\, at 8:30 p.m. \nUpon entry\, you’ll be given a food ticket and asked to donate ($10 recommendation)\, but all are welcome\, regardless of their ability to donate. \nFor up to date news about the BUF and its events\, join the Facebook Group or connect with Caitlin\, the BUF Coordinator\, at caitlin@kamloopsfoodpolicycouncil.com.
URL:https://kamloopsfoodpolicycouncil.com/event/butler-urban-farm-toppings-contest-fundraiser/
LOCATION:The Stir\, 185 Royal Ave\, Kamloops\, BC\, V2B 8J6\, Canada
END:VEVENT
BEGIN:VEVENT
DTSTART;TZID=America/Los_Angeles:20230607T173000
DTEND;TZID=America/Los_Angeles:20230607T193000
DTSTAMP:20260421T234022
CREATED:20230529T223957Z
LAST-MODIFIED:20230529T223957Z
UID:18112-1686159000-1686166200@kamloopsfoodpolicycouncil.com
SUMMARY:KFPC June Network Meeting
DESCRIPTION:Join us on the first Wednesday of every month from 5:30-7:30 p.m. for our Network Meeting and Potluck! \nJune’s theme is Open-Mic! Dust off those guitars\, and warm up your voices\, we’re ready to enjoy some live music in The Stir’s Riverfront Courtyard!
URL:https://kamloopsfoodpolicycouncil.com/event/kfpc-june-network-meeting/
LOCATION:The Stir\, 185 Royal Ave\, Kamloops\, BC\, V2B 8J6\, Canada
ORGANIZER;CN="KFPC":MAILTO:info@kamloopsfoodpolicycouncil.com
END:VEVENT
BEGIN:VEVENT
DTSTART;TZID=America/Los_Angeles:20200113T173000
DTEND;TZID=America/Los_Angeles:20200113T193000
DTSTAMP:20260421T234022
CREATED:20191228T173806Z
LAST-MODIFIED:20191228T173806Z
UID:11141-1578936600-1578943800@kamloopsfoodpolicycouncil.com
SUMMARY:Kimchi Workshop
DESCRIPTION:  \nKimchi is a traditional Korean dish of fermented vegetables. It is a great source of vitamins K\, C\, and B6\, as well as probiotics. In this hands-on workshop\, you will learn a traditional method of preparing vegetables for kimchi\, and will go home with everything to put together the finished product. \nThis workshop is a collaboration with Kamloops Immigrant Services.
URL:https://kamloopsfoodpolicycouncil.com/event/kimchi-workshop/
LOCATION:Mt Paul Food Centre\, 140 Laburnum Ave\, Kamloops\, Canada
ORGANIZER;CN="Sandra Frangiadakis":MAILTO:sandra@kamloopsfoodpolicycouncil.com
END:VEVENT
BEGIN:VEVENT
DTSTART;TZID=UTC:20171206T173000
DTEND;TZID=UTC:20171206T200000
DTSTAMP:20260421T234022
CREATED:20170831T080522Z
LAST-MODIFIED:20171023T095252Z
UID:3515-1512581400-1512590400@kamloopsfoodpolicycouncil.com
SUMMARY:December Networking Meeting
DESCRIPTION:Our December networking meeting will be on December 6 at the Mt Paul Food Centre\, we hope to see you there!
URL:https://kamloopsfoodpolicycouncil.com/event/sample-event-2/
LOCATION:Mt Paul Food Centre\, 140 Laburnum Ave\, Kamloops\, Canada
CATEGORIES:Networking Meetings
ATTACH;FMTTYPE=image/jpeg:https://kamloopsfoodpolicycouncil.com/wp-content/uploads/2017/06/Gleaning_appreciation-17.jpg
END:VEVENT
BEGIN:VEVENT
DTSTART;TZID=America/Los_Angeles:20171101T173000
DTEND;TZID=America/Los_Angeles:20171101T200000
DTSTAMP:20260421T234022
CREATED:20170831T080314Z
LAST-MODIFIED:20171023T095315Z
UID:3511-1509557400-1509566400@kamloopsfoodpolicycouncil.com
SUMMARY:November Networking Meeting
DESCRIPTION:Our monthly networking meeting will be on November 1 at the Mt Paul Food Centre. We will be learning more about the My Place program\, and will be enjoying our potluck dinner as always!
URL:https://kamloopsfoodpolicycouncil.com/event/sample-event/
LOCATION:Mt Paul Food Centre\, 140 Laburnum Ave\, Kamloops\, Canada
CATEGORIES:Networking Meetings
ATTACH;FMTTYPE=image/jpeg:https://kamloopsfoodpolicycouncil.com/wp-content/uploads/2017/06/Picture3-2-1.jpg
END:VEVENT
END:VCALENDAR