BEGIN:VCALENDAR
VERSION:2.0
PRODID:-//Kamloops Food Policy Council - ECPv6.15.20//NONSGML v1.0//EN
CALSCALE:GREGORIAN
METHOD:PUBLISH
X-ORIGINAL-URL:https://kamloopsfoodpolicycouncil.com
X-WR-CALDESC:Events for Kamloops Food Policy Council
REFRESH-INTERVAL;VALUE=DURATION:PT1H
X-Robots-Tag:noindex
X-PUBLISHED-TTL:PT1H
BEGIN:VTIMEZONE
TZID:America/Los_Angeles
BEGIN:DAYLIGHT
TZOFFSETFROM:-0800
TZOFFSETTO:-0700
TZNAME:PDT
DTSTART:20230312T100000
END:DAYLIGHT
BEGIN:STANDARD
TZOFFSETFROM:-0700
TZOFFSETTO:-0800
TZNAME:PST
DTSTART:20231105T090000
END:STANDARD
BEGIN:DAYLIGHT
TZOFFSETFROM:-0800
TZOFFSETTO:-0700
TZNAME:PDT
DTSTART:20240310T100000
END:DAYLIGHT
BEGIN:STANDARD
TZOFFSETFROM:-0700
TZOFFSETTO:-0800
TZNAME:PST
DTSTART:20241103T090000
END:STANDARD
BEGIN:DAYLIGHT
TZOFFSETFROM:-0800
TZOFFSETTO:-0700
TZNAME:PDT
DTSTART:20250309T100000
END:DAYLIGHT
BEGIN:STANDARD
TZOFFSETFROM:-0700
TZOFFSETTO:-0800
TZNAME:PST
DTSTART:20251102T090000
END:STANDARD
BEGIN:DAYLIGHT
TZOFFSETFROM:-0800
TZOFFSETTO:-0700
TZNAME:PDT
DTSTART:20260308T100000
END:DAYLIGHT
BEGIN:STANDARD
TZOFFSETFROM:-0700
TZOFFSETTO:-0800
TZNAME:PST
DTSTART:20261101T090000
END:STANDARD
END:VTIMEZONE
BEGIN:VEVENT
DTSTART;TZID=America/Los_Angeles:20250114T130000
DTEND;TZID=America/Los_Angeles:20250114T150000
DTSTAMP:20260421T172359
CREATED:20241128T205808Z
LAST-MODIFIED:20241128T210226Z
UID:19789-1736859600-1736866800@kamloopsfoodpolicycouncil.com
SUMMARY:Butler Urban Farm Transition Roundtable
DESCRIPTION:Save the date for our Butler Urban Farm (BUF) Transition Roundtable. The roundtable will be hosted on Tuesday January 14th 1-3 p.m at 185 Royal Ave\, The Stir\, and on Zoom.  \nRegister to attend on Zoom here. \nContext: \nARPA Investments\, a real estate developer\, will be closing their deal on the purchase the BUF property a year from now and said that they will likely start developing the property two years from now. This leaves uncertainty for the future of BUF and investing more in the property in terms of infrastructure. \nThe KFPC Team has reflected on transitioning the BUF program to be more of a community partner to host educational opportunities and workshops instead of doing the work to farm and maintain the land\, as part of our upstream advocacy efforts.  \nThe KFPC has a history of founding programs that benefit our community and can be handed off as a sustainable program for front-line service organizations\, such as Gardengate\, and Kamloops’s community gardens. We are ready to step back from the frontline work of BUF into a support\, advocacy\, and community connector role in relation to the BUF property. We are seeking insight from community partners to find a new steward for the property in hopes that BUF can continue to be a productive community food resource.
URL:https://kamloopsfoodpolicycouncil.com/event/butler-urban-farm-transition-roundtable/
LOCATION:The Stir\, 185 Royal Ave\, Kamloops\, BC\, V2B 8J6\, Canada
END:VEVENT
BEGIN:VEVENT
DTSTART;TZID=America/Los_Angeles:20241214T120000
DTEND;TZID=America/Los_Angeles:20241214T160000
DTSTAMP:20260421T172359
CREATED:20241022T184940Z
LAST-MODIFIED:20241023T225038Z
UID:19705-1734177600-1734192000@kamloopsfoodpolicycouncil.com
SUMMARY:Decemberfest
DESCRIPTION:Join us at The Stir on December 14th from 12. – 4 p.m. for Decemberfest!\n\nOur Stir Maker Grazing Goat Charcuterie will be vending snacks; you can get a professional (somewhat tacky) holiday photo taken; participate in the Evergreen bow making station; enjoy a warm drink; pick up your Holiday Foodie Box\, and more!\n\nThis event is hosted in tandem with  Stir Saturday and Kamloops Organic Buying Club pick-ups. Interested in local products? Shop here.\n\nLocated at 185 Royal Ave\, The Stir.
URL:https://kamloopsfoodpolicycouncil.com/event/decemberfest-2/
LOCATION:The Stir\, 185 Royal Ave\, Kamloops\, BC\, V2B 8J6\, Canada
END:VEVENT
BEGIN:VEVENT
DTSTART;TZID=America/Los_Angeles:20241204T173000
DTEND;TZID=America/Los_Angeles:20241204T193000
DTSTAMP:20260421T172359
CREATED:20241022T182304Z
LAST-MODIFIED:20241129T210504Z
UID:19701-1733333400-1733340600@kamloopsfoodpolicycouncil.com
SUMMARY:December Potluck & Network Meeting
DESCRIPTION:Join us on the first Wednesday of every other month for our Network Meeting & Potluck! The event runs from 5:30-7:30 p.m. in The Stirfront\, 185 Royal Ave. \nDecember’s network meeting features our annual candlelight potluck and open mic night.
URL:https://kamloopsfoodpolicycouncil.com/event/december-potluck-network-meeting/
LOCATION:The Stir\, 185 Royal Ave\, Kamloops\, BC\, V2B 8J6\, Canada
END:VEVENT
BEGIN:VEVENT
DTSTART;TZID=America/Los_Angeles:20241126T173000
DTEND;TZID=America/Los_Angeles:20241126T193000
DTSTAMP:20260421T172359
CREATED:20241029T172058Z
LAST-MODIFIED:20241029T172204Z
UID:19734-1732642200-1732649400@kamloopsfoodpolicycouncil.com
SUMMARY:Could Bee Zine Workshop
DESCRIPTION:Join Propolis Housing Cooperative for this Could Bee Zine Workshop on the topic of Building Resilient Community-led Housing! Event-goers will craft zine pages together\, exploring how we can build affordable housing for all\, design for climate resilience\, and foster networks of belonging and mutual aid in cooperative housing buildings. The results of this workshop will contribute to the planning process for Propolis Cooperative’s first affordable\, net zero housing development at 422/424 Tranquille Rd.\n\nMaterials and supplies are provided (folks are welcome to bring their own materials and crafting projects too!). This is a free event\, and everyone is welcome. The event runs from 5:30-7:30 p.m. on Nov 26th in the Stirfront\, 185 Royal Ave.\n\nThis event is co-hosted by Propolis Cooperative Housing Society\, the Kamloops Food Policy Council and the Kamloops Art Gallery.\n\nAbout the Could Bee Workshop Series: A “could bee” is a work bee for the imagination! This workshop series is designed to engage our imaginations to deepen our work toward justice\, climate resilience\, and belonging. Stay tuned for more Could Bee events to be announced.\n\n\nThe Could Bee workshop series is a Climate Action project from Transition Kamloops’ Climate Action Fest. We gratefully acknowledge funding support provided by the City of Kamloops.
URL:https://kamloopsfoodpolicycouncil.com/event/could-bee-zine-workshop/
LOCATION:The Stir\, 185 Royal Ave\, Kamloops\, BC\, V2B 8J6\, Canada
END:VEVENT
BEGIN:VEVENT
DTSTART;TZID=America/Los_Angeles:20241116T140000
DTEND;TZID=America/Los_Angeles:20241116T160000
DTSTAMP:20260421T172359
CREATED:20241030T171258Z
LAST-MODIFIED:20241030T171258Z
UID:19746-1731765600-1731772800@kamloopsfoodpolicycouncil.com
SUMMARY:Micro-Livestock Meet Up
DESCRIPTION:Come connect with other urban micro-livestock keepers\, and those who are farm-curious\, at The Stir!\n\nThere will be guided small-circle conversations\, brainstorm topics\, and snacks. Attendance is free.\n\nThis event takes place on Saturday November 16th from 2-4 p.m. at 185 Royal Ave.
URL:https://kamloopsfoodpolicycouncil.com/event/micro-livestock-meet-up/
LOCATION:The Stir\, 185 Royal Ave\, Kamloops\, BC\, V2B 8J6\, Canada
END:VEVENT
BEGIN:VEVENT
DTSTART;TZID=America/Los_Angeles:20241106T173000
DTEND;TZID=America/Los_Angeles:20241106T193000
DTSTAMP:20260421T172359
CREATED:20241015T200002Z
LAST-MODIFIED:20241015T200002Z
UID:19647-1730914200-1730921400@kamloopsfoodpolicycouncil.com
SUMMARY:November Potluck & Network Meeting
DESCRIPTION:  \n \nJoin us on the first Wednesday of every month for our Network Meeting & Potluck! The event runs from 5:30-7:30 p.m. in The Stirfront\, 185 Royal Ave. \n  \nThis month’s meeting will feature an update from our Strategic Planning Committee about our revised strategic goals for the KFPC.
URL:https://kamloopsfoodpolicycouncil.com/event/november-potluck-network-meeting/
LOCATION:The Stir\, 185 Royal Ave\, Kamloops\, BC\, V2B 8J6\, Canada
END:VEVENT
BEGIN:VEVENT
DTSTART;TZID=America/Los_Angeles:20241019T160000
DTEND;TZID=America/Los_Angeles:20241020T020000
DTSTAMP:20260421T172359
CREATED:20241001T210936Z
LAST-MODIFIED:20241001T210936Z
UID:19459-1729353600-1729389600@kamloopsfoodpolicycouncil.com
SUMMARY:12 Nights 'Till Halloween
DESCRIPTION:Get ready for a spook-tacular night of beats\, brews\, and boos at **12 Nights Til Halloween**\, the ultimate pre-Halloween bash hosted at The Stir! With killer tunes by **Average Citizens** and **Freddy J**\, this is the party you *don’t* want to miss. \nAs the night creeps closer to Halloween\, we’re lighting up the dance floor with local Kamloops talent and celebrating the artistic heart of our community. Grab a cold one from **Red Collar Brewing** or sip a creative cocktail by **Gin Lane** to keep your spirits high while you browse through amazing local artisan and clothing vendors. \nExpect party vibes\, delicious food\, and plenty of surprises throughout the night. \nSo throw on your best Halloween outfit (or come as you are!)\, gather your ghoul gang\, and join us for an unforgettable night of music\, food\, and fun. \n📅 **When**: October 19th\, doors open at 4:00 PM \n📍 **Where**: The Stir \n🎟️ **Tickets**: Available here. \nLet’s make these **12 Nights Til Halloween** ones to remember!
URL:https://kamloopsfoodpolicycouncil.com/event/12-nights-till-halloween/
LOCATION:The Stir\, 185 Royal Ave\, Kamloops\, BC\, V2B 8J6\, Canada
END:VEVENT
BEGIN:VEVENT
DTSTART;TZID=America/Los_Angeles:20241019T143000
DTEND;TZID=America/Los_Angeles:20241019T153000
DTSTAMP:20260421T172359
CREATED:20240920T190714Z
LAST-MODIFIED:20241001T201632Z
UID:19426-1729348200-1729351800@kamloopsfoodpolicycouncil.com
SUMMARY:Produce Pass-Alongs
DESCRIPTION:Want free produce? Have too much produce? Or too many grocery bags? \nCome drop off and pick-up produce at The Stir Parklet\, 185 Royal Ave. Everyone is welcome to donate or take as much as they like\, for free\, regardless of whether or not they have produce to donate. We also welcome donations of reusable grocery bags for people to carry produce in. \nThe produce pass-along stand is left out during week\, and has Stir staff in attendance on Tuesdays from 4-5 p.m. and Saturdays from 2:30-3:30 p.m. \n\n\nStarting on Saturday September 21st until Saturday October 19th.
URL:https://kamloopsfoodpolicycouncil.com/event/produce-pass-alongs/
LOCATION:The Stir\, 185 Royal Ave\, Kamloops\, BC\, V2B 8J6\, Canada
END:VEVENT
BEGIN:VEVENT
DTSTART;TZID=America/Los_Angeles:20240921T140000
DTEND;TZID=America/Los_Angeles:20241019T153000
DTSTAMP:20260421T172359
CREATED:20240926T205951Z
LAST-MODIFIED:20240926T205951Z
UID:19441-1726927200-1729351800@kamloopsfoodpolicycouncil.com
SUMMARY:Produce Pass-Alongs
DESCRIPTION:Are your friends sick of you “gifting” them your produce? Pass the abundance along to people who want it (Not that your friends don’t – there’s just only so much zucchini someone can eat\, ya know?)!\n\nCome drop off your produce at The Stir Parklet on Tuesdays from 4-5 p.m. and Saturdays from 2:30-3:30 p.m.\, 185 Royal Ave. Make cool connections\, and leave with some produce that you didn’t grow this year!\n\nNo Garden? No problem! There’s enough produce to go around! Come grab some kale and enough corn to freeze for the next year!\n\nStarting on Saturday September 21st until Saturday October 19th.
URL:https://kamloopsfoodpolicycouncil.com/event/produce-pass-alongs-2/
LOCATION:The Stir\, 185 Royal Ave\, Kamloops\, BC\, V2B 8J6\, Canada
END:VEVENT
BEGIN:VEVENT
DTSTART;TZID=America/Los_Angeles:20240919T100000
DTEND;TZID=America/Los_Angeles:20240919T120000
DTSTAMP:20260421T172359
CREATED:20240827T231133Z
LAST-MODIFIED:20240827T231133Z
UID:19366-1726740000-1726747200@kamloopsfoodpolicycouncil.com
SUMMARY:KALS Food Soverignty Walking Tour
DESCRIPTION:Participants will learn about food business innovations and distribution in Kamloops as they tour The Stir and about the importance of Food Commons and regenerative agriculture practices as they tour Butler Urban Farm. \n  \nParticipants must register in advance through the KALS website\, here. \n  \n 
URL:https://kamloopsfoodpolicycouncil.com/event/kals-food-soverignty-walking-tour/
LOCATION:The Stir\, 185 Royal Ave\, Kamloops\, BC\, V2B 8J6\, Canada
END:VEVENT
BEGIN:VEVENT
DTSTART;TZID=America/Los_Angeles:20240915T140000
DTEND;TZID=America/Los_Angeles:20240915T170000
DTSTAMP:20260421T172359
CREATED:20240827T230634Z
LAST-MODIFIED:20240827T230634Z
UID:19361-1726408800-1726419600@kamloopsfoodpolicycouncil.com
SUMMARY:Seed Cleaning Workshop by KFPC and Farm Folk City Folk
DESCRIPTION:Are you interested in learning how to clean seed? Bring your seed (or just yourself) and join us on Sunday\, September 15 at The Stir for some seedy fun!\n\nFrom  2-3pm we will be hosting a workshop with the Farm Folk City Folk Seed Cleaning trailer\, and from 3-5pm we will have drop in time available for those who would like to help process seeds harvested from the Butler Urban Farm as well as learning how to use our winnower\, thresher\, and seed cleaning screens.\n\nWe will also be accepting donations of community seed for our seed library. This is an open event\, so no need to register ahead of time. If you have any questions please feel free to reach out to Eden at seeds@kamloopsfoodpolicycouncil.com.
URL:https://kamloopsfoodpolicycouncil.com/event/seed-cleaning-workshop-by-kfpc-and-farm-folk-city-folk/
LOCATION:The Stir\, 185 Royal Ave\, Kamloops\, BC\, V2B 8J6\, Canada
END:VEVENT
BEGIN:VEVENT
DTSTART;TZID=America/Los_Angeles:20240912T183000
DTEND;TZID=America/Los_Angeles:20240912T220000
DTSTAMP:20260421T172359
CREATED:20240827T230059Z
LAST-MODIFIED:20240827T230128Z
UID:19352-1726165800-1726178400@kamloopsfoodpolicycouncil.com
SUMMARY:Fuckup Night at The Stir
DESCRIPTION:Fuckup Nights is a global movement and event series that shares stories of professional failure. Each month\, in events across the globe\, we get three to four people to get up in front of a room full of strangers to share their own professional fuckup. \nWelcome to Fuckup Nights Kamloops! \nThis is a licensed event. Ticket includes a beverage and snack. \nTickets must be purchased in advance here. \n 
URL:https://kamloopsfoodpolicycouncil.com/event/fuckup-night-at-the-stir/
LOCATION:The Stir\, 185 Royal Ave\, Kamloops\, BC\, V2B 8J6\, Canada
END:VEVENT
BEGIN:VEVENT
DTSTART;TZID=America/Los_Angeles:20240907T180000
DTEND;TZID=America/Los_Angeles:20240907T220000
DTSTAMP:20260421T172359
CREATED:20240827T230448Z
LAST-MODIFIED:20240829T220621Z
UID:19357-1725732000-1725746400@kamloopsfoodpolicycouncil.com
SUMMARY:The Afro Party by Maxx Entertainment
DESCRIPTION:Join Maxx Entertainment in the Riverfront Courtyard at 185 Royal Ave on Saturday September 7th from 6-10 p.m.\n\nThe event features different types of genres like Afrobeats \, Hip hop \, RnB \, dancehall \, latin \, Amapiano and house music.\n\nFood available at the event. $25 cover fee.
URL:https://kamloopsfoodpolicycouncil.com/event/the-afro-party-by-maxx-entertainment/
LOCATION:The Stir\, 185 Royal Ave\, Kamloops\, BC\, V2B 8J6\, Canada
END:VEVENT
BEGIN:VEVENT
DTSTART;TZID=America/Los_Angeles:20240907T100000
DTEND;TZID=America/Los_Angeles:20240907T120000
DTSTAMP:20260421T172359
CREATED:20240729T212808Z
LAST-MODIFIED:20240729T212808Z
UID:19303-1725703200-1725710400@kamloopsfoodpolicycouncil.com
SUMMARY:Botanical Distillation Demonstration
DESCRIPTION:Join Love Naturally Botanicals on Saturday September 7th form 10 a.m. – 12 p.m. at the Butler Urban Farm\, 127 Clapperton Rd\, for a Hydrosol Distillation Workshop. Workshop is drop in\, and by donation. Please bring a small spray bottle if you would like to bring some hydrosol home.
URL:https://kamloopsfoodpolicycouncil.com/event/botanical-distillation-demonstration/
LOCATION:BUF\, 127 Clapperton Dr\, Kamloops\, British Columbia\, Canada
END:VEVENT
BEGIN:VEVENT
DTSTART;TZID=America/Los_Angeles:20240905T170000
DTEND;TZID=America/Los_Angeles:20240905T200000
DTSTAMP:20260421T172359
CREATED:20240430T180432Z
LAST-MODIFIED:20240827T225745Z
UID:18978-1725555600-1725566400@kamloopsfoodpolicycouncil.com
SUMMARY:Simply Cakes - Stir Maker Pop-Up
DESCRIPTION:Love local food? Every other Thursday\, join one of our Stir Makers as they pop-up in the Stirfront or Riverfront Courtyard from 5-8 p.m.
URL:https://kamloopsfoodpolicycouncil.com/event/the-stir-pop-up-series/
LOCATION:The Stir\, 185 Royal Ave\, Kamloops\, BC\, V2B 8J6\, Canada
END:VEVENT
BEGIN:VEVENT
DTSTART;TZID=America/Los_Angeles:20240904T173000
DTEND;TZID=America/Los_Angeles:20240904T193000
DTSTAMP:20260421T172359
CREATED:20240827T224648Z
LAST-MODIFIED:20240827T225348Z
UID:19345-1725471000-1725478200@kamloopsfoodpolicycouncil.com
SUMMARY:September 4th Potluck & Network Meeting
DESCRIPTION:Join us on the first Wednesday of every month for our Network Meeting & Potluck! The event runs from 5:30-7:30 p.m. in The Stirfront\, 185 Royal Ave. \nSeptember’s meeting welcomes TRU students to connect with our community\, learn about food resources available to you\, and enjoy a delicious potluck!
URL:https://kamloopsfoodpolicycouncil.com/event/september-4th-potluck-network-meeting/
LOCATION:The Stir\, 185 Royal Ave\, Kamloops\, BC\, V2B 8J6\, Canada
END:VEVENT
BEGIN:VEVENT
DTSTART;TZID=America/Los_Angeles:20240822T170000
DTEND;TZID=America/Los_Angeles:20240822T200000
DTSTAMP:20260421T172359
CREATED:20240729T211607Z
LAST-MODIFIED:20240729T211639Z
UID:19295-1724346000-1724356800@kamloopsfoodpolicycouncil.com
SUMMARY:3rd Annual Parklet Pop-Up
DESCRIPTION:Join us at 185 Royal Ave\, The Stir\, on Thursday August 22nd from 5-8 p.m. to enjoy local food and music! Entry is free\, food tickets are $7 and can be redeemed at all vendors. \nWe hope to see you there!
URL:https://kamloopsfoodpolicycouncil.com/event/3rd-annual-parklet-pop-up/
LOCATION:The Stir\, 185 Royal Ave\, Kamloops\, BC\, V2B 8J6\, Canada
END:VEVENT
BEGIN:VEVENT
DTSTART;TZID=America/Los_Angeles:20240808T170000
DTEND;TZID=America/Los_Angeles:20240808T200000
DTSTAMP:20260421T172359
CREATED:20240729T211926Z
LAST-MODIFIED:20240729T211926Z
UID:19300-1723136400-1723147200@kamloopsfoodpolicycouncil.com
SUMMARY:2310 Entertainment's Caribbean Night
DESCRIPTION:Join 2310 Entertainment at The Stir for a night of Caribbean food and music! Entry is free\, food and beverages available for purchase during the event. 5-8 p.m.
URL:https://kamloopsfoodpolicycouncil.com/event/2310-entertainments-caribbean-night/
LOCATION:The Stir\, 185 Royal Ave\, Kamloops\, BC\, V2B 8J6\, Canada
END:VEVENT
BEGIN:VEVENT
DTSTART;TZID=America/Los_Angeles:20240807T173000
DTEND;TZID=America/Los_Angeles:20240807T210000
DTSTAMP:20260421T172359
CREATED:20240729T205257Z
LAST-MODIFIED:20240729T213657Z
UID:19286-1723051800-1723064400@kamloopsfoodpolicycouncil.com
SUMMARY:KFPC AGM\, Potluck & Dance Party
DESCRIPTION:The AGM will take place in The Stirfront\, 185 Royal Ave\, from 5:30-6 p.m. with the option to join online via Zoom (registration required to join virtually). The meeting agenda includes a slideshow of this past year’s highlights\, a review of financial statements\, and the nominations and election of new board members. View the full agenda here.\n\n\nPlease note\, only official network members\, who registered at least 30 days before the AGM\, are able to vote\, but everyone is welcome to attend the AGM. If you are unsure if you are eligible to vote in the AGM\, please contact us.\n\nAfter the AGM\, join us in person at our Riverfront Courtyard for a potluck and dance party!\n\n\nThe potluck starts at 6 p.m. and includes complimentary beverages from Taproot Ferments\, and more. If you can\, please bring an appetizer to share.\n\nFrom 6:30-9 p.m. our very own DJ Kentiffer will be playing some tunes for us to boogie to!\n\nWe hope to see you there!
URL:https://kamloopsfoodpolicycouncil.com/event/kfpc-agm-potluck-dance-party/
LOCATION:The Stir\, 185 Royal Ave\, Kamloops\, BC\, V2B 8J6\, Canada
END:VEVENT
BEGIN:VEVENT
DTSTART;TZID=America/Los_Angeles:20240727T173000
DTEND;TZID=America/Los_Angeles:20240727T233000
DTSTAMP:20260421T172359
CREATED:20240625T224112Z
LAST-MODIFIED:20240625T224112Z
UID:19149-1722101400-1722123000@kamloopsfoodpolicycouncil.com
SUMMARY:V360 Entertainment's Summer Night Out 
DESCRIPTION:  \n \nJoin Stir Makers V360 Entertainment for a sizzling summer soirée that’ll have you grooving and munching all night long! Featuring BBQ\, live music\, and games\, you won’t want to miss out on this riverfront party on Saturday July 27th from 5:30 p.m. – midnight in the Riverfront Courtyard. \nPurchase tickets and find more event info here.
URL:https://kamloopsfoodpolicycouncil.com/event/v360-entertainments-summer-night-out/
LOCATION:The Stir\, 185 Royal Ave\, Kamloops\, BC\, V2B 8J6\, Canada
END:VEVENT
BEGIN:VEVENT
DTSTART;TZID=America/Los_Angeles:20240711T170000
DTEND;TZID=America/Los_Angeles:20240711T200000
DTSTAMP:20260421T172359
CREATED:20240521T200502Z
LAST-MODIFIED:20240521T200502Z
UID:19060-1720717200-1720728000@kamloopsfoodpolicycouncil.com
SUMMARY:Stir Maker Pop-Up | Simply Cakes
DESCRIPTION:Love local food? Every other Thursday\, join one of our Stir Makers as they pop-up in the Stirfront or Riverfront Courtyard from 5-8 p.m. \nJoin Simply Cakes on Thursday July 11th in the Parklet and Stirfront for delicious baked goods!
URL:https://kamloopsfoodpolicycouncil.com/event/stir-maker-pop-up-simply-cakes/
LOCATION:The Stir\, 185 Royal Ave\, Kamloops\, BC\, V2B 8J6\, Canada
END:VEVENT
BEGIN:VEVENT
DTSTART;TZID=America/Los_Angeles:20240704T173000
DTEND;TZID=America/Los_Angeles:20240704T200000
DTSTAMP:20260421T172359
CREATED:20240521T194846Z
LAST-MODIFIED:20240522T224356Z
UID:19037-1720114200-1720123200@kamloopsfoodpolicycouncil.com
SUMMARY:Botanical Art Night at BUF
DESCRIPTION:Join the Kamloops Art Gallery and the Kamloops Food Policy Council for a night of botanical art making! Participants can try flower pounding on textiles\, or take inspiration from the environment around them to create their own projects. Supplies will be provided. Folks are welcome to bring their own materials and art projects to work on during this time.\n\nLocation: Butler Urban Farm\, 127 Clapperton Rd (Parking and farm entrance on Wilson St\, across from the Food Bank)\nDate and time: Thursday July 4th\, 5:30-8 p.m.\n\nRSVP here: https://thegallerystore.ca/products/butler-urban-farm-craftivism
URL:https://kamloopsfoodpolicycouncil.com/event/botanical-art-night-at-buf/
LOCATION:BUF\, 127 Clapperton Dr\, Kamloops\, British Columbia\, Canada
END:VEVENT
BEGIN:VEVENT
DTSTART;TZID=America/Los_Angeles:20240703T170000
DTEND;TZID=America/Los_Angeles:20240703T193000
DTSTAMP:20260421T172359
CREATED:20240605T214623Z
LAST-MODIFIED:20240605T214623Z
UID:19108-1720026000-1720035000@kamloopsfoodpolicycouncil.com
SUMMARY:KFPC Potluck & Zine Launch
DESCRIPTION:The KFPC is releasing three zines made by our network\, in partnership with the Kamloops Art Gallery\, over the past year. Join us and Haus of Misfit for a potluck\, short talk about zine culture\, and to browse\, buy\, and trade the KFPC zines and zines from Haus of Misfit!\n\nWednesday July 3rd\, from 5:30-7:30 p.m. in The Stirfront\, 185 Royal Ave
URL:https://kamloopsfoodpolicycouncil.com/event/kfpc-potluck-zine-launch/
LOCATION:The Stir\, 185 Royal Ave\, Kamloops\, BC\, V2B 8J6\, Canada
END:VEVENT
BEGIN:VEVENT
DTSTART;TZID=America/Los_Angeles:20240605T173000
DTEND;TZID=America/Los_Angeles:20240605T193000
DTSTAMP:20260421T172359
CREATED:20240527T201520Z
LAST-MODIFIED:20240527T201520Z
UID:19084-1717608600-1717615800@kamloopsfoodpolicycouncil.com
SUMMARY:KFPC Network Meeting & Potluck: Open Mic
DESCRIPTION:Warm up your voice\, brush off that guitar\, and join us on June 5th for an open mic night and potluck! The event run from 5:30-7:30 p.m. at the Stir\, 185 Royal Ave\, Kamloops\, B.C.
URL:https://kamloopsfoodpolicycouncil.com/event/kfpc-network-meeting-potluck-open-mic/
LOCATION:The Stir\, 185 Royal Ave\, Kamloops\, BC\, V2B 8J6\, Canada
END:VEVENT
BEGIN:VEVENT
DTSTART;TZID=America/Los_Angeles:20240522T173000
DTEND;TZID=America/Los_Angeles:20240522T193000
DTSTAMP:20260421T172359
CREATED:20240506T201105Z
LAST-MODIFIED:20240517T185923Z
UID:18993-1716399000-1716406200@kamloopsfoodpolicycouncil.com
SUMMARY:BUF Start of Season Potluck
DESCRIPTION:Join us at the Butler Urban Farm\, 127 Clapperton Rd\, for a start of season potluck and fundraiser on Wednesday May 22nd from 5:30-7:30 p.m.! \nEnjoy delicious food\, pick up perennial plants by donation\, and consider donating needed farm supplies (listed on the poster)! \nPlease note Clapperton Rd will be closed this summer due to construction. Parking is available on Wilson St\, in front of the Food Bank\, and the farm can be accessed by Wilson St.\, across from the food bank.
URL:https://kamloopsfoodpolicycouncil.com/event/buf-start-of-season-potluck/
LOCATION:BUF\, 127 Clapperton Dr\, Kamloops\, British Columbia\, Canada
END:VEVENT
BEGIN:VEVENT
DTSTART;TZID=America/Los_Angeles:20240514T170000
DTEND;TZID=America/Los_Angeles:20240514T190000
DTSTAMP:20260421T172359
CREATED:20240411T213728Z
LAST-MODIFIED:20240411T213824Z
UID:18941-1715706000-1715713200@kamloopsfoodpolicycouncil.com
SUMMARY:Post Cards of Courage with KSACC
DESCRIPTION:Postcards of Courage is a public art workshop to create healing art cards for survivors and victims of violence and crime. This workshop is part of series of events hosted by the Kamloops Sexual Assault Counselling Centre and partner organizations for Sexual Assault Awareness Week (May 12th-18th). Join us in the Stirfront\, 185 Royal Ave\, on Tuesday May 14th from 5-7 p.m. to participate. Everyone Welcome.
URL:https://kamloopsfoodpolicycouncil.com/event/post-cards-of-courage-with-ksacc/
LOCATION:The Stir\, 185 Royal Ave\, Kamloops\, BC\, V2B 8J6\, Canada
ORGANIZER;CN="KFPC":MAILTO:info@kamloopsfoodpolicycouncil.com
END:VEVENT
BEGIN:VEVENT
DTSTART;TZID=America/Los_Angeles:20240509T173000
DTEND;TZID=America/Los_Angeles:20240509T200000
DTSTAMP:20260421T172359
CREATED:20240226T200645Z
LAST-MODIFIED:20240423T174137Z
UID:18883-1715275800-1715284800@kamloopsfoodpolicycouncil.com
SUMMARY:Zine Workshop
DESCRIPTION:Join the Kamloops Food Policy Council and the Kamloops Art Gallery for a night of zine making on the topic of Building Grassroots Community Leadership for Radical Change. Folks are welcome to bring their own supplies and craft projects to work on during this time. \nThis is a free event\, and everyone is welcome. The event runs from 5:30-8 p.m. on May 9th in the Stirfront\, 185 Royal Ave.
URL:https://kamloopsfoodpolicycouncil.com/event/zine-workshop/
LOCATION:The Stir\, 185 Royal Ave\, Kamloops\, BC\, V2B 8J6\, Canada
END:VEVENT
BEGIN:VEVENT
DTSTART;TZID=America/Los_Angeles:20240501T173000
DTEND;TZID=America/Los_Angeles:20240501T193000
DTSTAMP:20260421T172359
CREATED:20240411T211820Z
LAST-MODIFIED:20240411T211820Z
UID:18937-1714584600-1714591800@kamloopsfoodpolicycouncil.com
SUMMARY:Potluck & Network Meeting - Game Night
DESCRIPTION:Join us on the first Wednesday of every month for our Network Meeting & Potluck! The event runs from 5:30-7:30 p.m. in The Stirfront\, 185 Royal Ave. This month’s gathering will feature a number of tabletop games for folks to enjoy.
URL:https://kamloopsfoodpolicycouncil.com/event/potluck-network-meeting-game-night/
LOCATION:The Stir\, 185 Royal Ave\, Kamloops\, BC\, V2B 8J6\, Canada
ORGANIZER;CN="KFPC":MAILTO:info@kamloopsfoodpolicycouncil.com
END:VEVENT
BEGIN:VEVENT
DTSTART;TZID=America/Los_Angeles:20240403T173000
DTEND;TZID=America/Los_Angeles:20240403T193000
DTSTAMP:20260421T172359
CREATED:20240328T203344Z
LAST-MODIFIED:20240328T203344Z
UID:18931-1712165400-1712172600@kamloopsfoodpolicycouncil.com
SUMMARY:KFPC Network Meeting & Potluck
DESCRIPTION:Join us on the first Wednesday of every month from 5:30-7:30 p.m. at The Stir\, 185 Royal Ave\, Kamloops\, to enjoy a potluck and learn about our local food system – everyone welcome! \nApril’s meeting centres around the ways community can support the work we do at the KFPC.
URL:https://kamloopsfoodpolicycouncil.com/event/kfpc-network-meeting-potluck-3/
LOCATION:The Stir\, 185 Royal Ave\, Kamloops\, BC\, V2B 8J6\, Canada
ORGANIZER;CN="KFPC":MAILTO:info@kamloopsfoodpolicycouncil.com
END:VEVENT
BEGIN:VEVENT
DTSTART;TZID=America/Los_Angeles:20240306T173000
DTEND;TZID=America/Los_Angeles:20240306T193000
DTSTAMP:20260421T172359
CREATED:20240226T200018Z
LAST-MODIFIED:20240226T200018Z
UID:18879-1709746200-1709753400@kamloopsfoodpolicycouncil.com
SUMMARY:KFPC Network Meeting & Potluck
DESCRIPTION:Join us on the first Wednesday of every month from 5:30-7:30 p.m. at The Stir\, 185 Royal Ave\, Kamloops\, to enjoy a potluck and learn about our local food system – everyone welcome! \nMarch’s meeting centres around the KFPC’s Mental Health Toolkit.
URL:https://kamloopsfoodpolicycouncil.com/event/kfpc-network-meeting-potluck-2/
LOCATION:The Stir\, 185 Royal Ave\, Kamloops\, BC\, V2B 8J6\, Canada
ORGANIZER;CN="KFPC":MAILTO:info@kamloopsfoodpolicycouncil.com
END:VEVENT
END:VCALENDAR